BEGIN:VCALENDAR
VERSION:2.0
PRODID:-//Christa Beckers - ECPv6.15.18//NONSGML v1.0//EN
CALSCALE:GREGORIAN
METHOD:PUBLISH
X-WR-CALNAME:Christa Beckers
X-ORIGINAL-URL:https://christabeckers.de
X-WR-CALDESC:Veranstaltungen für Christa Beckers
REFRESH-INTERVAL;VALUE=DURATION:PT1H
X-Robots-Tag:noindex
X-PUBLISHED-TTL:PT1H
BEGIN:VTIMEZONE
TZID:Europe/Berlin
BEGIN:DAYLIGHT
TZOFFSETFROM:+0100
TZOFFSETTO:+0200
TZNAME:CEST
DTSTART:20250330T010000
END:DAYLIGHT
BEGIN:STANDARD
TZOFFSETFROM:+0200
TZOFFSETTO:+0100
TZNAME:CET
DTSTART:20251026T010000
END:STANDARD
BEGIN:DAYLIGHT
TZOFFSETFROM:+0100
TZOFFSETTO:+0200
TZNAME:CEST
DTSTART:20260329T010000
END:DAYLIGHT
BEGIN:STANDARD
TZOFFSETFROM:+0200
TZOFFSETTO:+0100
TZNAME:CET
DTSTART:20261025T010000
END:STANDARD
BEGIN:DAYLIGHT
TZOFFSETFROM:+0100
TZOFFSETTO:+0200
TZNAME:CEST
DTSTART:20270328T010000
END:DAYLIGHT
BEGIN:STANDARD
TZOFFSETFROM:+0200
TZOFFSETTO:+0100
TZNAME:CET
DTSTART:20271031T010000
END:STANDARD
END:VTIMEZONE
BEGIN:VEVENT
DTSTART;TZID=Europe/Berlin:20260114T183000
DTEND;TZID=Europe/Berlin:20260114T193000
DTSTAMP:20260422T105133
CREATED:20251218T160311Z
LAST-MODIFIED:20251219T083835Z
UID:4711-1768415400-1768419000@christabeckers.de
SUMMARY:Infoabend - ehrliches Mitteilen nach Gopal
DESCRIPTION:Kennst du das Gefühl\, dass du sprichst – und trotzdem innerlich allein zu bleiben? Oder etwas deutlich zu spüren\, aber die passenden Worte fehlen\, um dich wirklich zu zeigen?Ehrliches Mitteilen lädt dich ein\, wieder näher bei dir selbst anzukommen.Nicht\, um dich zu verbessern – sondern um dich ehrlicher zu erleben. Um mit mehr innerer Ruhe und Klarheit in eine echte Nähe einzutauchen\, ohne dich selbst zu verlieren.An diesem Abend bekommst du einen lebendigen Einblick in einen Weg\, der überraschend einfach ist und dennoch tief wirkt.Du erfährst: \n\n\n\n\nwie du dich selbst besser verstehen kannst\, indem du lernst\, wahrzunehmen statt zu bewerten\n\n\n\nwarum ehrlicher Kontakt entsteht\, wenn nichts geklärt\, erklärt oder gelöst werden muss\n\n\n\nwas Ehrliches Mitteilen wirklich ist (und warum es oft missverstanden wird)\n\n\n\nwie es mit den Drei Prinzipien nach Sydney Banks zusammenhängt und innere Klarheit fördert\n\n\n\n\nDu musst nichts können\, nichts wissen\, nichts „richtig machen“. Neugier reicht völlig aus.
URL:https://christabeckers.de/termin/infoabend-ehrliches-mitteilen-nach-gopal/
ATTACH;FMTTYPE=image/png:https://christabeckers.de/wp-content/uploads/Ehrliches-Mitteilein.png
END:VEVENT
BEGIN:VEVENT
DTSTART;TZID=Europe/Berlin:20260120T190000
DTEND;TZID=Europe/Berlin:20260120T200000
DTSTAMP:20260422T105133
CREATED:20251218T161025Z
LAST-MODIFIED:20251219T083541Z
UID:4713-1768935600-1768939200@christabeckers.de
SUMMARY:FellGeflüster – Dein Hund & dein Inneres hören sich zu
DESCRIPTION:Ein monatlicher Impulsabend für dich & deinen Hund \n\n\n\nHunde spiegeln unsere innere Haltung\, Gedanken und Emotionen – oft ohne dass wir es bewusst wahrnehmen.„FellGeflüster“ bietet dir einen geschützten Raum\, um genau hinzuhören.In diesem Onlinetermin gibt es inspirierende Impulse und eine offene Runde zum Teilen von Erfahrungen und Fragen.
URL:https://christabeckers.de/termin/fellgefluester-dein-hund-dein-inneres-hoeren-sich-zu-3/
CATEGORIES:Mensch-Hund-Team
ATTACH;FMTTYPE=image/png:https://christabeckers.de/wp-content/uploads/Fellgefluester.png
END:VEVENT
BEGIN:VEVENT
DTSTART;TZID=Europe/Berlin:20260125T190000
DTEND;TZID=Europe/Berlin:20260125T210000
DTSTAMP:20260422T105133
CREATED:20260108T153724Z
LAST-MODIFIED:20260121T080033Z
UID:4744-1769367600-1769374800@christabeckers.de
SUMMARY:Nähe\, Leichtigkeit & Tiefe im Miteinander
DESCRIPTION:durch das ehrliche Mitteilen nach Gopal Norbert Klein2-stündiger Workshop\, in dem wir einen achtsamen\, sicheren Raum öffnen und erforschen:– wie Lebendigkeit in Begegnungen zurückkehrt– wie Verständnis Spannung verwandelt– wie Nähe entstehen darf – ohne Anstrengung– wie du dir selbst mit mehr Herz und Mitgefühl begegnest.Die Veranstaltung findet statt in der Yoga+Fitness Fabrik in Ibbenbüren
URL:https://christabeckers.de/termin/naehe-leichtigkeit-tiefe-im-miteinander/
CATEGORIES:Workshop
ATTACH;FMTTYPE=image/png:https://christabeckers.de/wp-content/uploads/WS_NaeheLeichtigkeitTiefe-im-Miteinander-1.png
END:VEVENT
END:VCALENDAR